BEGIN:VCALENDAR
VERSION:2.0
PRODID:-//INVICTUS TEAM - ECPv6.3.3.1//NONSGML v1.0//EN
CALSCALE:GREGORIAN
METHOD:PUBLISH
X-WR-CALNAME:INVICTUS TEAM
X-ORIGINAL-URL:https://invictusteam.cz
X-WR-CALDESC:Akce na INVICTUS TEAM
REFRESH-INTERVAL;VALUE=DURATION:PT1H
X-Robots-Tag:noindex
X-PUBLISHED-TTL:PT1H
BEGIN:VTIMEZONE
TZID:UTC
BEGIN:STANDARD
TZOFFSETFROM:+0000
TZOFFSETTO:+0000
TZNAME:UTC
DTSTART:20240101T000000
END:STANDARD
END:VTIMEZONE
BEGIN:VEVENT
DTSTART;TZID=UTC:20240508T090000
DTEND;TZID=UTC:20240508T170000
DTSTAMP:20260420T005631
CREATED:20240312T083010Z
LAST-MODIFIED:20240412T102015Z
UID:250-1715158800-1715187600@invictusteam.cz
SUMMARY:ČKP - 3. kolo - Bohdalovské okruhy
DESCRIPTION:
URL:https://invictusteam.cz/event/bohdalovske-okruhy/
LOCATION:Bohdalov\, Bohdalov\, Česká republika
CATEGORIES:ČKP
END:VEVENT
BEGIN:VEVENT
DTSTART;TZID=UTC:20240424T073000
DTEND;TZID=UTC:20240424T173000
DTSTAMP:20260420T005631
CREATED:20240312T071227Z
LAST-MODIFIED:20240412T102229Z
UID:241-1713943800-1713979800@invictusteam.cz
SUMMARY:ČKP - 2. kolo - Memoriál Karla Raise
DESCRIPTION:Den konání: 4.5.2024\nPořadatel: ASK ELNA Počerady.\nPrezentace: Pavilon „B“ lounského výstaviště v Masarykových   sadech v Lounech od 7.30 do 9.30 hodin\nŠatny a sprchy: V sauně koupaliště vedle vedle výstaviště.  Pořařadatel   neručí za odložené věci.\nOsobní věci\, (batohy a tašky) z místa startu do cíle odveze dodávka 10 minut před startem!\nStart: silnice u obce Volevčice u elektrárny Počerady v 11.00 hodin.\nPřihlášení k závodu: na webu IRONTIME\, nebo v záložce registrace. \nDoprava na místo startu je zajištěna pořadatelem z místa prezentace.\nNutno dodržet časy odjezdů autobusů ! Odjezdy autobusů: z parkoviště před Městským koupalištěm v Lounech od 9.30 / 9.40 / 9.50 (2 vozy současně)\nČas doběhu a dojezdu: park T.G. Masaryka – výstaviště Louny před hlavním pavilonem cca od 11.20 do 12.50 hodin.
URL:https://invictusteam.cz/event/memorial-karla-raise/
LOCATION:Louny\, Masarykovy sady\, Louny\, Česká republika
CATEGORIES:ČKP
END:VEVENT
BEGIN:VEVENT
DTSTART;TZID=UTC:20240413T080000
DTEND;TZID=UTC:20240413T180000
DTSTAMP:20260420T005631
CREATED:20240312T063144Z
LAST-MODIFIED:20240412T102133Z
UID:235-1712995200-1713031200@invictusteam.cz
SUMMARY:ČKP - 1. kolo - Pardubický vinařský půlmaraton 2024
DESCRIPTION:Termín: 13. dubna 2024\nHodina startu: 10:30 hod.\nMísto startu: Smetanovo náměstí\nVzdálenost: 21\,0975 km\nCíl: Pernštýnské náměstí\nVyhlášení: 13:00 hod. – Vyhlášení  závodu koloběžek – tribuna Pernštýnské náměstí
URL:https://invictusteam.cz/event/pardubicky-pulmaraton/
LOCATION:Pardubice\, Smetanovo náměstí\, Smetanovo náměstí\, Pardubice\, Pardubický\, Česká republika
CATEGORIES:ČKP
END:VEVENT
END:VCALENDAR